BEGIN:VCALENDAR
VERSION:2.0
PRODID:-//The LeRoy W. Homer Jr. Foundation - ECPv6.6.4.1//NONSGML v1.0//EN
CALSCALE:GREGORIAN
METHOD:PUBLISH
X-ORIGINAL-URL:https://leroywhomerjr.org
X-WR-CALDESC:Events for The LeRoy W. Homer Jr. Foundation
REFRESH-INTERVAL;VALUE=DURATION:PT1H
X-Robots-Tag:noindex
X-PUBLISHED-TTL:PT1H
BEGIN:VTIMEZONE
TZID:America/New_York
BEGIN:DAYLIGHT
TZOFFSETFROM:-0500
TZOFFSETTO:-0400
TZNAME:EDT
DTSTART:20250309T070000
END:DAYLIGHT
BEGIN:STANDARD
TZOFFSETFROM:-0400
TZOFFSETTO:-0500
TZNAME:EST
DTSTART:20251102T060000
END:STANDARD
END:VTIMEZONE
BEGIN:VEVENT
DTSTART;VALUE=DATE:20250828
DTEND;VALUE=DATE:20250901
DTSTAMP:20260421T104417
CREATED:20250610T015607Z
LAST-MODIFIED:20250610T015607Z
UID:15082-1756339200-1756684799@leroywhomerjr.org
SUMMARY:AirFest - Naval Air Station Wildwood Aviation Museum
DESCRIPTION:Love aviation? Come out to the AirFest in Cape May\, NJ from 8/28-8/31 (10am-4pm). Awesome WWII planes including the Corsair will be featured along with the museum’s collection of over 27 planes and helicopters. There will be live music\, food trucks\, and much more. We will be having a table display on 8/29-8/30 so please stop by. By attending\, you help NASW in its mission to memorialize the 42 men who perished while training at the site\, restore Hangar #1\, and educate the public. For more information\, check out the AirFest 2025 Facebook page. Hope to see you there!
URL:https://leroywhomerjr.org/event/airfest-naval-air-station-wildwood-aviation-museum/
LOCATION:NAS Wildwood Aviation Museum\, 500 Forrestal Rd.\, Cape May\, NJ\, 08204\, United States
ATTACH;FMTTYPE=image/jpeg:https://leroywhomerjr.org/wp-content/uploads/2025/06/NAS-Wildwood.jpg
END:VEVENT
END:VCALENDAR