BEGIN:VCALENDAR
VERSION:2.0
PRODID:-//The LeRoy W. Homer Jr. Foundation - ECPv6.6.4.1//NONSGML v1.0//EN
CALSCALE:GREGORIAN
METHOD:PUBLISH
X-WR-CALNAME:The LeRoy W. Homer Jr. Foundation
X-ORIGINAL-URL:https://leroywhomerjr.org
X-WR-CALDESC:Events for The LeRoy W. Homer Jr. Foundation
REFRESH-INTERVAL;VALUE=DURATION:PT1H
X-Robots-Tag:noindex
X-PUBLISHED-TTL:PT1H
BEGIN:VTIMEZONE
TZID:America/New_York
BEGIN:DAYLIGHT
TZOFFSETFROM:-0500
TZOFFSETTO:-0400
TZNAME:EDT
DTSTART:20130310T070000
END:DAYLIGHT
BEGIN:STANDARD
TZOFFSETFROM:-0400
TZOFFSETTO:-0500
TZNAME:EST
DTSTART:20131103T060000
END:STANDARD
TZID:America/Halifax
BEGIN:DAYLIGHT
TZOFFSETFROM:-0400
TZOFFSETTO:-0300
TZNAME:ADT
DTSTART:20110313T060000
END:DAYLIGHT
BEGIN:STANDARD
TZOFFSETFROM:-0300
TZOFFSETTO:-0400
TZNAME:AST
DTSTART:20111106T050000
END:STANDARD
END:VTIMEZONE
BEGIN:VEVENT
DTSTART;TZID=America/New_York:20131111T103000
DTEND;TZID=America/New_York:20131111T140000
DTSTAMP:20260421T161629
CREATED:20160210T215658Z
LAST-MODIFIED:20160523T235717Z
UID:407-1384165800-1384178400@leroywhomerjr.org
SUMMARY:Honoring the Past\, Inspiring the Future
DESCRIPTION:Honoring the Past\, Inspiring the Future: The 2013 LeRoy W. Homer Jr. Foundation Fundraiser \n\n\n\nJoin us for this fundraising event as we honor the heroes of the past and see how we are inspiring the future heroes of tomorrow. Guest speaker will be Brian Delate\, actor\, writer\, director and veteran. We will also have members of our Armed Forces present as well as our past scholarship recipients.
URL:https://leroywhomerjr.org/event/beach-cleanup-2/
LOCATION:Battleship New Jersey\, 100 Clinton St\, Camden\, NJ\, 08103\, United States
CATEGORIES:Volunteers
END:VEVENT
BEGIN:VEVENT
DTSTART;TZID=America/Halifax:20110820T170000
DTEND;TZID=America/Halifax:20110820T210000
DTSTAMP:20260421T161629
CREATED:20160524T001138Z
LAST-MODIFIED:20160524T001138Z
UID:935-1313859600-1313874000@leroywhomerjr.org
SUMMARY:For the Love of Flight - 10th Anniversary
DESCRIPTION:The LeRoy W. Homer Jr. Foundation 2011 Fundraiser \nThe 2011 Fundraiser for the LeRoy W. Homer Jr. Foundation commemorates the events of September 11\, 2001. A silent auction\, presentations by special guests and prior scholarship recipients\, food and music provided in support of the Foundation’s mission to encourage and support young men and women who wish to pursue aviation careers by awarding flight scholarships for potential students to obtain private pilot certification.
URL:https://leroywhomerjr.org/event/for-the-love-of-flight-10th-anniversary/
LOCATION:Laurel Creek Country Club\, Mt. Laurel\, NJ\, United States
END:VEVENT
END:VCALENDAR