BEGIN:VCALENDAR
VERSION:2.0
PRODID:-//The LeRoy W. Homer Jr. Foundation - ECPv6.6.4.1//NONSGML v1.0//EN
CALSCALE:GREGORIAN
METHOD:PUBLISH
X-WR-CALNAME:The LeRoy W. Homer Jr. Foundation
X-ORIGINAL-URL:https://leroywhomerjr.org
X-WR-CALDESC:Events for The LeRoy W. Homer Jr. Foundation
REFRESH-INTERVAL;VALUE=DURATION:PT1H
X-Robots-Tag:noindex
X-PUBLISHED-TTL:PT1H
BEGIN:VTIMEZONE
TZID:America/Denver
BEGIN:DAYLIGHT
TZOFFSETFROM:-0700
TZOFFSETTO:-0600
TZNAME:MDT
DTSTART:20220313T090000
END:DAYLIGHT
BEGIN:STANDARD
TZOFFSETFROM:-0600
TZOFFSETTO:-0700
TZNAME:MST
DTSTART:20221106T080000
END:STANDARD
END:VTIMEZONE
BEGIN:VEVENT
DTSTART;TZID=America/Denver:20220820T170000
DTEND;TZID=America/Denver:20220820T220000
DTSTAMP:20260423T120116
CREATED:20210201T124308Z
LAST-MODIFIED:20220803T193407Z
UID:6280-1661014800-1661032800@leroywhomerjr.org
SUMMARY:Heroes of United Flight 93 - 20 year Gala
DESCRIPTION:“Flight 93 Heroes Gala – 20-year Remembrance Gala”\n\nPresented by the Captain Jason Dahl Scholarship Fund\n\nIn Association with The LeRoy W. Homer Jr. Foundation \n\n“Heroes Are Not Forgotten”\nJoin us for an evening of remembrance following the 20th Anniversary of September 11\, 2001 with keynote speaker Heather “Lucky” Penney and a silent auction. The Heroes of Flight 93 Gala is an annual charity fundraising event held by the Captain Jason Dahl Scholarship Fund\, which honors the memory of those lost in the September 11th attacks by sponsoring future aviators with scholarships.\n\n\nTickets online at https://www.flight93heroesgala.com\nCan’t make it? Support/attend with the added “virtual attend” ticket. Just $20!
URL:https://leroywhomerjr.org/event/heroes-of-united-flight-93-20-year-gala/
LOCATION:Gaylord Rockies Resort\, 6700 N Gaylord Rockies Blvd\, Aurora\, CO\, 80019\, United States
ATTACH;FMTTYPE=image/png:https://leroywhomerjr.org/wp-content/uploads/2021/02/HeroesGala2021.png
END:VEVENT
END:VCALENDAR