BEGIN:VCALENDAR
VERSION:2.0
PRODID:-//The LeRoy W. Homer Jr. Foundation - ECPv6.6.4.1//NONSGML v1.0//EN
CALSCALE:GREGORIAN
METHOD:PUBLISH
X-WR-CALNAME:The LeRoy W. Homer Jr. Foundation
X-ORIGINAL-URL:https://leroywhomerjr.org
X-WR-CALDESC:Events for The LeRoy W. Homer Jr. Foundation
REFRESH-INTERVAL;VALUE=DURATION:PT1H
X-Robots-Tag:noindex
X-PUBLISHED-TTL:PT1H
BEGIN:VTIMEZONE
TZID:America/New_York
BEGIN:DAYLIGHT
TZOFFSETFROM:-0500
TZOFFSETTO:-0400
TZNAME:EDT
DTSTART:20240310T070000
END:DAYLIGHT
BEGIN:STANDARD
TZOFFSETFROM:-0400
TZOFFSETTO:-0500
TZNAME:EST
DTSTART:20241103T060000
END:STANDARD
END:VTIMEZONE
BEGIN:VEVENT
DTSTART;TZID=America/New_York:20240908T090000
DTEND;TZID=America/New_York:20240908T110000
DTSTAMP:20260422T001948
CREATED:20240520T132513Z
LAST-MODIFIED:20240802T101251Z
UID:14381-1725786000-1725793200@leroywhomerjr.org
SUMMARY:9/11 LeRoy Homer  5K & 1 Mile Walk - We Run So They Can FLY!
DESCRIPTION:CLICK HERE TO REGISTER NOW! \nJoin us for our 1st Annual 9/11 LeRoy Homer 5K and 1 Mile Walk! \n5K and 1 mile walk. Flat and fast 5K starting in Memorial Sports Complex in Evesham\, NJ. Chip timing\, HD finish line video\, text messaging and instant results on RunSignUp. Gold\, Silver and Bronze medals in each age group. \nLeRoy Homer\, resident of Marlton\, was the First Officer on Flight 93 which tragically crashed in Shanksville\, PA on Sept 11\, 2001. The crew and passengers fought off terrorists and thwarted an attack against the US Capitol. The LeRoy Homer Foundation awards flight scholarships to young adults who wish to pursue careers in aviation. The proceeds from this 5K will benefit our aviation scholarship program to help create the next generation of pilots. Come out for a great run or walk while supporting a wonderful cause. \nClick here for 5K Sponsorship Form & Information
URL:https://leroywhomerjr.org/event/9-11-leroy-homer-5k-1-mile-walk-we-run-so-they-can-fly/
LOCATION:Memorial Sports Complex\, 1040 Tuckerton Rd\, Evesham\, NJ\, 08053\, United States
ATTACH;FMTTYPE=image/png:https://leroywhomerjr.org/wp-content/uploads/2024/05/2024-5K-Flyer-e1716211876359.png
END:VEVENT
END:VCALENDAR